BEGIN:VCALENDAR
VERSION:2.0
PRODID:-//Library Market//iCal Export//EN
BEGIN:VEVENT
SUMMARY:250th Wreath Making Class
UID:8853
DTSTAMP:20260424T090600Z
DTSTART:20260519T220000Z
DTEND:20260519T230000Z
LOCATION:Beardsley Library, 40 Munro Pl, Winsted, CT 06098, United States
ROOM: Smart Space
DESCRIPTION:Join us at Beardsley Library to make patriotic wreaths to cele
 brate the 250th birthday of America! Registration is required. If you re
 gister and are unable to attend, please notify the library no later than 3
  hours before the program, either by online cancellation or phone call. If
  there are repeated no shows, patrons will not be able to attend programs 
 for a set period of time. 
URL:https://beardsley.librarycalendar.com/event/250th-wreath-making-class-
 8853
END:VEVENT
END:VCALENDAR
