BEGIN:VCALENDAR
VERSION:2.0
PRODID:-//Library Market//iCal Export//EN
BEGIN:VEVENT
SUMMARY:It&#039;s Paper Airplane Day!
UID:8871
DTSTAMP:20260422T034000Z
DTSTART:20260526T200000Z
DTEND:20260526T210000Z
LOCATION:Beardsley Library, 40 Munro Pl, Winsted, CT 06098, United States
ROOM: Children&#039;s Room
DESCRIPTION:It’s Paper Airplane Day!Tuesday, May 26th at 4:00!Join us to
  learn some new folding techniques or share your favorite!Fold, decorate, 
 and try out your creations!Recommended for ages 6-11
URL:https://beardsley.librarycalendar.com/event/its-paper-airplane-day-887
 1
END:VEVENT
END:VCALENDAR
